Workbook

Sheet Planilha1
A1: Ano | B1: 2020 PAN | C1: 2020 CORAL | D1: TOTAL 2020 | E1: PAN 2021 | F1: CORRAL 2021 | G1: TOTAL 2021 | H1: PAN 2022 | I1: CORRAL 2022 | J1: TOTAL 2022 | K1: PAN 2023 | L1: CORRAL 2023 | M1: TOTAL 2023 | N1: PAN 2024 | O1: CORRAL 2024 | P1: TOTAL 2024 | Q1: Total 5 anos
A2: Nome Produto | B2: Quantidade | E2: Quantidade | H2: Quantidade | K2: Quantidade | N2: Quantidade | Q2: Quantidade
A3: FACA 24605/016 AZUL TRAMONTINA | B3: 4728 | C3: 0 | D3: =B3+C3 -> 4728 | E3: 5529 | F3: =VLOOKUP(A3,Planilha2!A1:F114,2,FALSE) -> 0 | G3: =E3+F3 -> 5529 | H3: 2035 | I3: =VLOOKUP(A3,Planilha2!A1:F114,3,FALSE) -> 3926 | J3: =H3+I3 -> 5961 | K3: 0 | L3: =VLOOKUP(A3,Planilha2!A1:F114,4,FALSE) -> 6107 | M3: =K3+L3 -> 6107 | N3: 2505 | O3: =VLOOKUP(A3,Planilha2!A1:F114,5,FALSE) -> 3724 | P3: =N3+O3 -> 6229 | Q3: 14797
A4: FACA 24605/026 VERDE TRAMONTINA | B4: 4518 | C4: 0 | D4: =B4+C4 -> 4518 | E4: 5305 | F4: =VLOOKUP(A4,Planilha2!A2:F115,2,FALSE) -> 0 | G4: =E4+F4 -> 5305 | H4: 1808 | I4: =VLOOKUP(A4,Planilha2!A2:F115,3,FALSE) -> 3499 | J4: =H4+I4 -> 5307 | K4: 0 | L4: =VLOOKUP(A4,Planilha2!A2:F115,4,FALSE) -> 5607 | M4: =K4+L4 -> 5607 | N4: 2464 | O4: =VLOOKUP(A4,Planilha2!A2:F115,5,FALSE) -> 3444 | P4: =N4+O4 -> 5908 | Q4: 14095
A5: FACA 24605/056 AMARELO TRAMONTINA | B5: 4305 | C5: 0 | D5: =B5+C5 -> 4305 | E5: 5246 | F5: =VLOOKUP(A5,Planilha2!A3:F116,2,FALSE) -> 0 | G5: =E5+F5 -> 5246 | H5: 2525 | I5: =VLOOKUP(A5,Planilha2!A3:F116,3,FALSE) -> 3000 | J5: =H5+I5 -> 5525 | K5: 0 | L5: =VLOOKUP(A5,Planilha2!A3:F116,4,FALSE) -> 5986 | M5: =K5+L5 -> 5986 | N5: 2276 | O5: =VLOOKUP(A5,Planilha2!A3:F116,5,FALSE) -> 3474 | P5: =N5+O5 -> 5750 | Q5: 14352
A6: FACA 24619/086 BRANCO TRAMONTINA | B6: 1672 | C6: 0 | D6: =B6+C6 -> 1672 | E6: 2442 | F6: =VLOOKUP(A6,Planilha2!A4:F117,2,FALSE) -> 120 | G6: =E6+F6 -> 2562 | H6: 1440 | I6: =VLOOKUP(A6,Planilha2!A4:F117,3,FALSE) -> 1466 | J6: =H6+I6 -> 2906 | K6: 0 | L6: =VLOOKUP(A6,Planilha2!A4:F117,4,FALSE) -> 3653 | M6: =K6+L6 -> 3653 | N6: 2086 | O6: =VLOOKUP(A6,Planilha2!A4:F117,5,FALSE) -> 2853 | P6: =N6+O6 -> 4939 | Q6: 7640
A7: FACA 24605/086 BRANCO TRAMONTINA | B7: 4467 | C7: 0 | D7: =B7+C7 -> 4467 | E7: 5604 | F7: 0 | G7: =E7+F7 -> 5604 | H7: 2464 | I7: 3427 | J7: =H7+I7 -> 5891 | K7: 324 | L7: 5618 | M7: =K7+L7 -> 5942 | N7: 2030 | O7: 3572 | P7: =N7+O7 -> 5602 | Q7: 14889
A8: FACA 24619/056 AMARELO TRAMONTINA | B8: 1706 | C8: 0 | D8: =B8+C8 -> 1706 | E8: 2130 | F8: =VLOOKUP(A8,Planilha2!A6:F119,2,FALSE) -> 277 | G8: =E8+F8 -> 2407 | H8: 1343 | I8: =VLOOKUP(A8,Planilha2!A6:F119,3,FALSE) -> 1510 | J8: =H8+I8 -> 2853 | K8: 0 | L8: =VLOOKUP(A8,Planilha2!A6:F119,4,FALSE) -> 3452 | M8: =K8+L8 -> 3452 | N8: 2013 | O8: =VLOOKUP(A8,Planilha2!A6:F119,5,FALSE) -> 2672 | P8: =N8+O8 -> 4685 | Q8: 7192
A9: FACA 24602/085 BRANCO TRAMONTINA | B9: 3674 | C9: 0 | D9: =B9+C9 -> 3674 | E9: 4348 | F9: 90 | G9: =E9+F9 -> 4438 | H9: 1904 | I9: 2336 | J9: =H9+I9 -> 4240 | K9: 0 | L9: 4529 | M9: =K9+L9 -> 4529 | N9: 1369 | O9: 3504 | P9: =N9+O9 -> 4873 | Q9: 11295
A10: FACA 24602/055 AMARELO TRAMONTINA | B10: 2592 | C10: 0 | D10: =B10+C10 -> 2592 | E10: 2737 | F10: =VLOOKUP(A10,Planilha2!A8:F121,2,FALSE) -> 0 | G10: =E10+F10 -> 2737 | H10: 1380 | I10: =VLOOKUP(A10,Planilha2!A8:F121,3,FALSE) -> 2069 | J10: =H10+I10 -> 3449 | K10: 0 | L10: =VLOOKUP(A10,Planilha2!A8:F121,4,FALSE) -> 3730 | M10: =K10+L10 -> 3730 | N10: 1308 | O10: =VLOOKUP(A10,Planilha2!A8:F121,5,FALSE) -> 3348 | P10: =N10+O10 -> 4656 | Q10: 8017
A11: FACA 24652/085 BRANCO TRAMONTINA | B11: 1442 | C11: 0 | D11: =B11+C11 -> 1442 | E11: 1759 | F11: =VLOOKUP(A11,Planilha2!A9:F122,2,FALSE) -> 0 | G11: =E11+F11 -> 1759 | H11: 723 | I11: =VLOOKUP(A11,Planilha2!A9:F122,3,FALSE) -> 1519 | J11: =H11+I11 -> 2242 | K11: 0 | L11: =VLOOKUP(A11,Planilha2!A9:F122,4,FALSE) -> 2564 | M11: =K11+L11 -> 2564 | N11: 1268 | O11: =VLOOKUP(A11,Planilha2!A9:F122,5,FALSE) -> 1972 | P11: =N11+O11 -> 3240 | Q11: 5192
A12: FACA 24652/055 AMARELO TRAMONTINA | B12: 1335 | C12: 0 | D12: =B12+C12 -> 1335 | E12: 1771 | F12: =VLOOKUP(A12,Planilha2!A10:F123,2,FALSE) -> 0 | G12: =E12+F12 -> 1771 | H12: 740 | I12: =VLOOKUP(A12,Planilha2!A10:F123,3,FALSE) -> 1352 | J12: =H12+I12 -> 2092 | K12: 0 | L12: =VLOOKUP(A12,Planilha2!A10:F123,4,FALSE) -> 2332 | M12: =K12+L12 -> 2332 | N12: 1088 | O12: =VLOOKUP(A12,Planilha2!A10:F123,5,FALSE) -> 1928 | P12: =N12+O12 -> 3016 | Q12: 4934
A13: FACA 24614/055 AMARELO TRAMONTINA | B13: 1800 | C13: 0 | D13: =B13+C13 -> 1800 | E13: 1848 | F13: =VLOOKUP(A13,Planilha2!A11:F124,2,FALSE) -> 0 | G13: =E13+F13 -> 1848 | H13: 832 | I13: =VLOOKUP(A13,Planilha2!A11:F124,3,FALSE) -> 1308 | J13: =H13+I13 -> 2140 | K13: 0 | L13: =VLOOKUP(A13,Planilha2!A11:F124,4,FALSE) -> 1815 | M13: =K13+L13 -> 1815 | N13: 1019 | O13: =VLOOKUP(A13,Planilha2!A11:F124,5,FALSE) -> 1598 | P13: =N13+O13 -> 2617 | Q13: 5499
A14: FACA 24614/085 BRANCO TRAMONTINA | B14: 2358 | C14: 0 | D14: =B14+C14 -> 2358 | E14: 2393 | F14: =VLOOKUP(A14,Planilha2!A12:F125,2,FALSE) -> 0 | G14: =E14+F14 -> 2393 | H14: 1086 | I14: =VLOOKUP(A14,Planilha2!A12:F125,3,FALSE) -> 1375 | J14: =H14+I14 -> 2461 | K14: 0 | L14: =VLOOKUP(A14,Planilha2!A12:F125,4,FALSE) -> 2401 | M14: =K14+L14 -> 2401 | N14: 920 | O14: =VLOOKUP(A14,Planilha2!A12:F125,5,FALSE) -> 1966 | P14: =N14+O14 -> 2886 | Q14: 6757
A15: FACA 24660/086 BRANCO TRAMONTINA | B15: 2339 | C15: 0 | D15: =B15+C15 -> 2339 | E15: 2220 | F15: =VLOOKUP(A15,Planilha2!A13:F126,2,FALSE) -> 0 | G15: =E15+F15 -> 2220 | H15: 936 | I15: =VLOOKUP(A15,Planilha2!A13:F126,3,FALSE) -> 684 | J15: =H15+I15 -> 1620 | K15: 0 | L15: =VLOOKUP(A15,Planilha2!A13:F126,4,FALSE) -> 2034 | M15: =K15+L15 -> 2034 | N15: 816 | O15: =VLOOKUP(A15,Planilha2!A13:F126,5,FALSE) -> 1608 | P15: =N15+O15 -> 2424 | Q15: 6311
A16: FACA 24606/026 VERDE TRAMONTINA | B16: 1165 | C16: 0 | D16: =B16+C16 -> 1165 | E16: 1415 | F16: =VLOOKUP(A16,Planilha2!A14:F127,2,FALSE) -> 0 | G16: =E16+F16 -> 1415 | H16: 524 | I16: =VLOOKUP(A16,Planilha2!A14:F127,3,FALSE) -> 804 | J16: =H16+I16 -> 1328 | K16: 0 | L16: =VLOOKUP(A16,Planilha2!A14:F127,4,FALSE) -> 1234 | M16: =K16+L16 -> 1234 | N16: 808 | O16: =VLOOKUP(A16,Planilha2!A14:F127,5,FALSE) -> 1140 | P16: =N16+O16 -> 1948 | Q16: 3912
A17: FACA 24660/056 AMARELO TRAMONTINA | B17: 1936 | C17: 0 | D17: =B17+C17 -> 1936 | E17: 2112 | F17: =VLOOKUP(A17,Planilha2!A15:F128,2,FALSE) -> 0 | G17: =E17+F17 -> 2112 | H17: 935 | I17: =VLOOKUP(A17,Planilha2!A15:F128,3,FALSE) -> 805 | J17: =H17+I17 -> 1740 | K17: 0 | L17: =VLOOKUP(A17,Planilha2!A15:F128,4,FALSE) -> 2060 | M17: =K17+L17 -> 2060 | N17: 792 | O17: =VLOOKUP(A17,Planilha2!A15:F128,5,FALSE) -> 1644 | P17: =N17+O17 -> 2436 | Q17: 5775
A18: FACA 24602/025 VERDE TRAMONTINA | B18: 1734 | C18: 0 | D18: =B18+C18 -> 1734 | E18: 1988 | F18: =VLOOKUP(A18,Planilha2!A16:F129,2,FALSE) -> 42 | G18: =E18+F18 -> 2030 | H18: 1028 | I18: =VLOOKUP(A18,Planilha2!A16:F129,3,FALSE) -> 1621 | J18: =H18+I18 -> 2649 | K18: 36 | L18: =VLOOKUP(A18,Planilha2!A16:F129,4,FALSE) -> 2255 | M18: =K18+L18 -> 2291 | N18: 792 | O18: =VLOOKUP(A18,Planilha2!A16:F129,5,FALSE) -> 1459 | P18: =N18+O18 -> 2251 | Q18: 5578
A19: FACA 24667/085 BRANCO TRAMONTINA | B19: 144 | C19: 0 | D19: =B19+C19 -> 144 | E19: 899 | F19: 300 | G19: =E19+F19 -> 1199 | H19: 1244 | I19: 2056 | J19: =H19+I19 -> 3300 | K19: 0 | L19: 2459 | M19: =K19+L19 -> 2459 | N19: 733 | O19: 1745 | P19: =N19+O19 -> 2478 | Q19: 3020
A20: FACA 24606/016 AZUL TRAMONTINA | B20: 1062 | C20: 0 | D20: =B20+C20 -> 1062 | E20: 1364 | F20: =VLOOKUP(A20,Planilha2!A18:F131,2,FALSE) -> 0 | G20: =E20+F20 -> 1364 | H20: 629 | I20: =VLOOKUP(A20,Planilha2!A18:F131,3,FALSE) -> 589 | J20: =H20+I20 -> 1218 | K20: 0 | L20: =VLOOKUP(A20,Planilha2!A18:F131,4,FALSE) -> 1128 | M20: =K20+L20 -> 1128 | N20: 732 | O20: =VLOOKUP(A20,Planilha2!A18:F131,5,FALSE) -> 994 | P20: =N20+O20 -> 1726 | Q20: 3787
A21: FACA 24667/055 AMARELO TRAMONTINA | B21: 180 | C21: 0 | D21: =B21+C21 -> 180 | E21: 1067 | F21: 252 | G21: =E21+F21 -> 1319 | H21: 974 | I21: 1188 | J21: =H21+I21 -> 2162 | K21: 0 | L21: 2127 | M21: =K21+L21 -> 2127 | N21: 626 | O21: 1709 | P21: =N21+O21 -> 2335 | Q21: 2847
A22: FACA 24602/015 AZUL TRAMONTINA | B22: 1292 | C22: 0 | D22: =B22+C22 -> 1292 | E22: 1621 | F22: =VLOOKUP(A22,Planilha2!A20:F133,2,FALSE) -> 0 | G22: =E22+F22 -> 1621 | H22: 1045 | I22: =VLOOKUP(A22,Planilha2!A20:F133,3,FALSE) -> 1003 | J22: =H22+I22 -> 2048 | K22: 36 | L22: =VLOOKUP(A22,Planilha2!A20:F133,4,FALSE) -> 1657 | M22: =K22+L22 -> 1693 | N22: 528 | O22: =VLOOKUP(A22,Planilha2!A20:F133,5,FALSE) -> 1243 | P22: =N22+O22 -> 1771 | Q22: 4522
A23: FACA 24615/085 BRANCO TRAMONTINA | B23: 1200 | C23: 0 | D23: =B23+C23 -> 1200 | E23: 1466 | F23: =VLOOKUP(A23,Planilha2!A21:F134,2,FALSE) -> 0 | G23: =E23+F23 -> 1466 | H23: 690 | I23: =VLOOKUP(A23,Planilha2!A21:F134,3,FALSE) -> 646 | J23: =H23+I23 -> 1336 | K23: 24 | L23: =VLOOKUP(A23,Planilha2!A21:F134,4,FALSE) -> 1087 | M23: =K23+L23 -> 1111 | N23: 424 | O23: =VLOOKUP(A23,Planilha2!A21:F134,5,FALSE) -> 848 | P23: =N23+O23 -> 1272 | Q23: 3804
A24: ALINHADOR DE FIO PROFISSIONAL 24690/000 INOX MODELO NOVO TRAMONTINA | B24: 517 | C24: 0 | D24: =B24+C24 -> 517 | E24: 969 | F24: =VLOOKUP(A24,Planilha2!A22:F135,2,FALSE) -> 0 | G24: =E24+F24 -> 969 | H24: 561 | I24: =VLOOKUP(A24,Planilha2!A22:F135,3,FALSE) -> 379 | J24: =H24+I24 -> 940 | K24: 360 | L24: =VLOOKUP(A24,Planilha2!A22:F135,4,FALSE) -> 1059 | M24: =K24+L24 -> 1419 | N24: 405 | O24: =VLOOKUP(A24,Planilha2!A22:F135,5,FALSE) -> 990 | P24: =N24+O24 -> 1395 | Q24: 2812
A25: FACA 24615/055 AMARELO TRAMONTINA | B25: 1238 | C25: 0 | D25: =B25+C25 -> 1238 | E25: 1358 | F25: =VLOOKUP(A25,Planilha2!A23:F136,2,FALSE) -> 0 | G25: =E25+F25 -> 1358 | H25: 636 | I25: =VLOOKUP(A25,Planilha2!A23:F136,3,FALSE) -> 661 | J25: =H25+I25 -> 1297 | K25: 0 | L25: =VLOOKUP(A25,Planilha2!A23:F136,4,FALSE) -> 991 | M25: =K25+L25 -> 991 | N25: 301 | O25: =VLOOKUP(A25,Planilha2!A23:F136,5,FALSE) -> 818 | P25: =N25+O25 -> 1119 | Q25: 3533
A26: FACA 24619/058 AMARELO TRAMONTINA | B26: 688 | C26: 0 | D26: =B26+C26 -> 688 | E26: 479 | F26: =VLOOKUP(A26,Planilha2!A24:F137,2,FALSE) -> 0 | G26: =E26+F26 -> 479 | H26: 276 | I26: =VLOOKUP(A26,Planilha2!A24:F137,3,FALSE) -> 325 | J26: =H26+I26 -> 601 | K26: 0 | L26: =VLOOKUP(A26,Planilha2!A24:F137,4,FALSE) -> 708 | M26: =K26+L26 -> 708 | N26: 264 | O26: =VLOOKUP(A26,Planilha2!A24:F137,5,FALSE) -> 348 | P26: =N26+O26 -> 612 | Q26: 1707
A27: FACA 24619/088 BRANCO TRAMONTINA | B27: 612 | C27: 0 | D27: =B27+C27 -> 612 | E27: 428 | F27: =VLOOKUP(A27,Planilha2!A25:F138,2,FALSE) -> 0 | G27: =E27+F27 -> 428 | H27: 256 | I27: =VLOOKUP(A27,Planilha2!A25:F138,3,FALSE) -> 390 | J27: =H27+I27 -> 646 | K27: 0 | L27: =VLOOKUP(A27,Planilha2!A25:F138,4,FALSE) -> 785 | M27: =K27+L27 -> 785 | N27: 253 | O27: =VLOOKUP(A27,Planilha2!A25:F138,5,FALSE) -> 383 | P27: =N27+O27 -> 636 | Q27: 1549
A28: FACA 24606/086 BRANCO TRAMONTINA | B28: 160 | C28: 0 | D28: =B28+C28 -> 160 | E28: 206 | F28: =VLOOKUP(A28,Planilha2!A26:F139,2,FALSE) -> 0 | G28: =E28+F28 -> 206 | H28: 127 | I28: =VLOOKUP(A28,Planilha2!A26:F139,3,FALSE) -> 58 | J28: =H28+I28 -> 185 | K28: 18 | L28: =VLOOKUP(A28,Planilha2!A26:F139,4,FALSE) -> 148 | M28: =K28+L28 -> 166 | N28: 233 | O28: =VLOOKUP(A28,Planilha2!A26:F139,5,FALSE) -> 346 | P28: =N28+O28 -> 579 | Q28: 744
A29: FACA 24606/056 AMARELO TRAMONTINA | B29: 139 | C29: 0 | D29: =B29+C29 -> 139 | E29: 184 | F29: =VLOOKUP(A29,Planilha2!A27:F140,2,FALSE) -> 0 | G29: =E29+F29 -> 184 | H29: 167 | I29: =VLOOKUP(A29,Planilha2!A27:F140,3,FALSE) -> 0 | J29: =H29+I29 -> 167 | K29: 30 | L29: =VLOOKUP(A29,Planilha2!A27:F140,4,FALSE) -> 191 | M29: =K29+L29 -> 221 | N29: 216 | O29: =VLOOKUP(A29,Planilha2!A27:F140,5,FALSE) -> 396 | P29: =N29+O29 -> 612 | Q29: 736
A30: FACA 24655/056 AMARELO TRAMONTINA | B30: 74 | C30: 0 | D30: =B30+C30 -> 74 | E30: 108 | F30: =VLOOKUP(A30,Planilha2!A28:F141,2,FALSE) -> 0 | G30: =E30+F30 -> 108 | H30: 72 | I30: =VLOOKUP(A30,Planilha2!A28:F141,3,FALSE) -> 12 | J30: =H30+I30 -> 84 | K30: 0 | L30: =VLOOKUP(A30,Planilha2!A28:F141,4,FALSE) -> 168 | M30: =K30+L30 -> 168 | N30: 204 | O30: =VLOOKUP(A30,Planilha2!A28:F141,5,FALSE) -> 304 | P30: =N30+O30 -> 508 | Q30: 458
A31: HASTE 24694/000 PARA ALINHADOR DE FIO PROFISSIONAL MODELO NOVO TRAMONTINA | B31: 0 | C31: 0 | D31: =B31+C31 -> 0 | E31: 0 | F31: =VLOOKUP(A31,Planilha2!A29:F142,2,FALSE) -> 0 | G31: =E31+F31 -> 0 | H31: 0 | I31: =VLOOKUP(A31,Planilha2!A29:F142,3,FALSE) -> 0 | J31: =H31+I31 -> 0 | K31: 0 | L31: 385 | M31: =K31+L31 -> 385 | N31: 201 | O31: =VLOOKUP(A31,Planilha2!A29:F142,5,FALSE) -> 90 | P31: =N31+O31 -> 291 | Q31: 201
A32: FACA 24605/085 BRANCO TRAMONTINA | B32: 146 | C32: 0 | D32: =B32+C32 -> 146 | E32: 312 | F32: =VLOOKUP(A32,Planilha2!A30:F143,2,FALSE) -> 0 | G32: =E32+F32 -> 312 | H32: 149 | I32: =VLOOKUP(A32,Planilha2!A30:F143,3,FALSE) -> 137 | J32: =H32+I32 -> 286 | K32: 0 | L32: =VLOOKUP(A32,Planilha2!A30:F143,4,FALSE) -> 228 | M32: =K32+L32 -> 228 | N32: 180 | O32: =VLOOKUP(A32,Planilha2!A30:F143,5,FALSE) -> 216 | P32: =N32+O32 -> 396 | Q32: 787
A33: FACA 24655/086 BRANCO TRAMONTINA | B33: 84 | C33: 0 | D33: =B33+C33 -> 84 | E33: 108 | F33: =VLOOKUP(A33,Planilha2!A31:F144,2,FALSE) -> 0 | G33: =E33+F33 -> 108 | H33: 60 | I33: =VLOOKUP(A33,Planilha2!A31:F144,3,FALSE) -> 12 | J33: =H33+I33 -> 72 | K33: 0 | L33: =VLOOKUP(A33,Planilha2!A31:F144,4,FALSE) -> 168 | M33: =K33+L33 -> 168 | N33: 168 | O33: =VLOOKUP(A33,Planilha2!A31:F144,5,FALSE) -> 324 | P33: =N33+O33 -> 492 | Q33: 420
A34: FACA 24605/055 AMARELO TRAMONTINA | B34: 174 | C34: 0 | D34: =B34+C34 -> 174 | E34: 324 | F34: =VLOOKUP(A34,Planilha2!A32:F145,2,FALSE) -> 0 | G34: =E34+F34 -> 324 | H34: 178 | I34: =VLOOKUP(A34,Planilha2!A32:F145,3,FALSE) -> 156 | J34: =H34+I34 -> 334 | K34: 0 | L34: =VLOOKUP(A34,Planilha2!A32:F145,4,FALSE) -> 228 | M34: =K34+L34 -> 228 | N34: 168 | O34: =VLOOKUP(A34,Planilha2!A32:F145,5,FALSE) -> 162 | P34: =N34+O34 -> 330 | Q34: 844
A35: FACA 24607/087 BRANCO TRAMONTINA | B35: 1224 | C35: 0 | D35: =B35+C35 -> 1224 | E35: 624 | F35: =VLOOKUP(A35,Planilha2!A33:F146,2,FALSE) -> 0 | G35: =E35+F35 -> 624 | H35: 456 | I35: =VLOOKUP(A35,Planilha2!A33:F146,3,FALSE) -> 168 | J35: =H35+I35 -> 624 | K35: 0 | L35: =VLOOKUP(A35,Planilha2!A33:F146,4,FALSE) -> 437 | M35: =K35+L35 -> 437 | N35: 168 | O35: =VLOOKUP(A35,Planilha2!A33:F146,5,FALSE) -> 300 | P35: =N35+O35 -> 468 | Q35: 2472
A36: # FACA 24614/015 AZUL TRAMONTINA | B36: 504 | C36: 0 | D36: =B36+C36 -> 504 | E36: 922 | F36: 0 | G36: =E36+F36 -> 922 | H36: 368 | I36: 300 | J36: =H36+I36 -> 668 | K36: 0 | L36: 868 | M36: =K36+L36 -> 868 | N36: 156 | O36: 564 | P36: =N36+O36 -> 720 | Q36: 1950
A37: CHAIRA RAIADA 24642/080 BRANCO TRAMONTINA | B37: 172 | C37: 0 | D37: =B37+C37 -> 172 | E37: 334 | F37: 0 | G37: =E37+F37 -> 334 | H37: 171 | I37: 169 | J37: =H37+I37 -> 340 | K37: 17 | L37: 486 | M37: =K37+L37 -> 503 | N37: 149 | O37: 368 | P37: =N37+O37 -> 517 | Q37: 843
A38: FACA 24662/055 AMARELO TRAMONTINA | B38: 0 | C38: 0 | D38: =B38+C38 -> 0 | E38: 0 | F38: =VLOOKUP(A38,Planilha2!A36:F149,2,FALSE) -> 0 | G38: =E38+F38 -> 0 | H38: 0 | I38: =VLOOKUP(A38,Planilha2!A36:F149,3,FALSE) -> 0 | J38: =H38+I38 -> 0 | K38: 0 | L38: =VLOOKUP(A38,Planilha2!A36:F149,4,FALSE) -> 0 | M38: =K38+L38 -> 0 | N38: 144 | O38: =VLOOKUP(A38,Planilha2!A36:F149,5,FALSE) -> 276 | P38: =N38+O38 -> 420 | Q38: 144
A39: FACA 24607/057 AMARELO TRAMONTINA | B39: 1282 | C39: 0 | D39: =B39+C39 -> 1282 | E39: 696 | F39: 0 | G39: =E39+F39 -> 696 | H39: 592 | I39: 192 | J39: =H39+I39 -> 784 | K39: 21 | L39: 494 | M39: =K39+L39 -> 515 | N39: 144 | O39: 336 | P39: =N39+O39 -> 480 | Q39: 2735
A40: FACA 24611/088 BRANCO TRAMONTINA | B40: 131 | C40: 0 | D40: =B40+C40 -> 131 | E40: 148 | F40: =VLOOKUP(A40,Planilha2!A38:F151,2,FALSE) -> 0 | G40: =E40+F40 -> 148 | H40: 34 | I40: =VLOOKUP(A40,Planilha2!A38:F151,3,FALSE) -> 124 | J40: =H40+I40 -> 158 | K40: 0 | L40: =VLOOKUP(A40,Planilha2!A38:F151,4,FALSE) -> 145 | M40: =K40+L40 -> 145 | N40: 141 | O40: =VLOOKUP(A40,Planilha2!A38:F151,5,FALSE) -> 125 | P40: =N40+O40 -> 266 | Q40: 454
A41: FACA 24611/058 AMARELO TRAMONTINA | B41: 130 | C41: 0 | D41: =B41+C41 -> 130 | E41: 126 | F41: =VLOOKUP(A41,Planilha2!A39:F152,2,FALSE) -> 0 | G41: =E41+F41 -> 126 | H41: 44 | I41: =VLOOKUP(A41,Planilha2!A39:F152,3,FALSE) -> 87 | J41: =H41+I41 -> 131 | K41: 0 | L41: =VLOOKUP(A41,Planilha2!A39:F152,4,FALSE) -> 151 | M41: =K41+L41 -> 151 | N41: 134 | O41: =VLOOKUP(A41,Planilha2!A39:F152,5,FALSE) -> 128 | P41: =N41+O41 -> 262 | Q41: 434
A42: CHAIRA LISA 24643/050 AMARELO TRAMONTINA | B42: 37 | C42: 0 | D42: =B42+C42 -> 37 | E42: 103 | F42: =VLOOKUP(A42,Planilha2!A40:F153,2,FALSE) -> 0 | G42: =E42+F42 -> 103 | H42: 81 | I42: =VLOOKUP(A42,Planilha2!A40:F153,3,FALSE) -> 0 | J42: =H42+I42 -> 81 | K42: 17 | L42: =VLOOKUP(A42,Planilha2!A40:F153,4,FALSE) -> 51 | M42: =K42+L42 -> 68 | N42: 132 | O42: =VLOOKUP(A42,Planilha2!A40:F153,5,FALSE) -> 232 | P42: =N42+O42 -> 364 | Q42: 370
A43: CHAIRA LISA 24643/082 BRANCO TRAMONTINA | B43: 157 | C43: 0 | D43: =B43+C43 -> 157 | E43: 188 | F43: =VLOOKUP(A43,Planilha2!A41:F154,2,FALSE) -> 0 | G43: =E43+F43 -> 188 | H43: 134 | I43: =VLOOKUP(A43,Planilha2!A41:F154,3,FALSE) -> 5 | J43: =H43+I43 -> 139 | K43: 0 | L43: =VLOOKUP(A43,Planilha2!A41:F154,4,FALSE) -> 327 | M43: =K43+L43 -> 327 | N43: 128 | O43: =VLOOKUP(A43,Planilha2!A41:F154,5,FALSE) -> 273 | P43: =N43+O43 -> 401 | Q43: 607
A44: # CHAIRA RAIADA 24642/050 AMARELO TRAMONTINA | B44: 64 | C44: 0 | D44: =B44+C44 -> 64 | E44: 112 | F44: =VLOOKUP(A44,Planilha2!A42:F155,2,FALSE) -> 0 | G44: =E44+F44 -> 112 | H44: 66 | I44: =VLOOKUP(A44,Planilha2!A42:F155,3,FALSE) -> 68 | J44: =H44+I44 -> 134 | K44: 12 | L44: =VLOOKUP(A44,Planilha2!A42:F155,4,FALSE) -> 150 | M44: =K44+L44 -> 162 | N44: 120 | O44: =VLOOKUP(A44,Planilha2!A42:F155,5,FALSE) -> 269 | P44: =N44+O44 -> 389 | Q44: 374
A45: FACA 24619/026 VERDE TRAMONTINA | B45: 28 | C45: 0 | D45: =B45+C45 -> 28 | E45: 52 | F45: =VLOOKUP(A45,Planilha2!A43:F156,2,FALSE) -> 0 | G45: =E45+F45 -> 52 | H45: 18 | I45: =VLOOKUP(A45,Planilha2!A43:F156,3,FALSE) -> 90 | J45: =H45+I45 -> 108 | K45: 18 | L45: =VLOOKUP(A45,Planilha2!A43:F156,4,FALSE) -> 90 | M45: =K45+L45 -> 108 | N45: 120 | O45: =VLOOKUP(A45,Planilha2!A43:F156,5,FALSE) -> 72 | P45: =N45+O45 -> 192 | Q45: 236
A46: FACA 24620/086 BRANCO TRAMONTINA | B46: 2280 | C46: 0 | D46: =B46+C46 -> 2280 | E46: 1905 | F46: 0 | G46: =E46+F46 -> 1905 | H46: 504 | I46: 564 | J46: =H46+I46 -> 1068 | K46: 0 | L46: 912 | M46: =K46+L46 -> 912 | N46: 120 | O46: 460 | P46: =N46+O46 -> 580 | Q46: 4809
A47: # FACA 24614/025 VERDE TRAMONTINA | B47: 24 | C47: 0 | D47: =B47+C47 -> 24 | E47: 349 | F47: 0 | G47: =E47+F47 -> 349 | H47: 168 | I47: 60 | J47: =H47+I47 -> 228 | K47: 24 | L47: 456 | M47: =K47+L47 -> 480 | N47: 120 | O47: 312 | P47: =N47+O47 -> 432 | Q47: 685
A48: # FACA 24601/055 AMARELO TRAMONTINA | B48: 2762 | C48: 0 | D48: =B48+C48 -> 2762 | E48: 2830 | F48: 0 | G48: =E48+F48 -> 2830 | H48: 1073 | I48: 540 | J48: =H48+I48 -> 1613 | K48: 55 | L48: 1275 | M48: =K48+L48 -> 1330 | N48: 110 | O48: 480 | P48: =N48+O48 -> 590 | Q48: 6830
A49: # FACA 24601/085 BRANCO TRAMONTINA | B49: 2796 | C49: 0 | D49: =B49+C49 -> 2796 | E49: 2978 | F49: 0 | G49: =E49+F49 -> 2978 | H49: 1535 | I49: 120 | J49: =H49+I49 -> 1655 | K49: 67 | L49: 1323 | M49: =K49+L49 -> 1390 | N49: 110 | O49: 480 | P49: =N49+O49 -> 590 | Q49: 7486
A50: FACA 24662/085 BRANCO TRAMONTINA | B50: 0 | C50: 0 | D50: =B50+C50 -> 0 | E50: 0 | F50: 0 | G50: =E50+F50 -> 0 | H50: 0 | I50: 0 | J50: =H50+I50 -> 0 | K50: 0 | L50: 0 | M50: =K50+L50 -> 0 | N50: 110 | O50: 300 | P50: =N50+O50 -> 410 | Q50: 110
A51: TESOURA CABO AMARELO 25923/058 TRAMONTINA | B51: 0 | C51: 0 | D51: =B51+C51 -> 0 | E51: 4 | F51: =VLOOKUP(A51,Planilha2!A49:F162,2,FALSE) -> 0 | G51: =E51+F51 -> 4 | H51: 9 | I51: =VLOOKUP(A51,Planilha2!A49:F162,3,FALSE) -> 0 | J51: =H51+I51 -> 9 | K51: 4 | L51: =VLOOKUP(A51,Planilha2!A49:F162,4,FALSE) -> 0 | M51: =K51+L51 -> 4 | N51: 109 | O51: =VLOOKUP(A51,Planilha2!A49:F162,5,FALSE) -> 148 | P51: =N51+O51 -> 257 | Q51: 126
A52: FACA 24612/084 BRANCO TRAMONTINA | B52: 0 | C52: 0 | D52: =B52+C52 -> 0 | E52: 12 | F52: =VLOOKUP(A52,Planilha2!A50:F163,2,FALSE) -> 0 | G52: =E52+F52 -> 12 | H52: 30 | I52: =VLOOKUP(A52,Planilha2!A50:F163,3,FALSE) -> 86 | J52: =H52+I52 -> 116 | K52: 0 | L52: =VLOOKUP(A52,Planilha2!A50:F163,4,FALSE) -> 84 | M52: =K52+L52 -> 84 | N52: 96 | O52: =VLOOKUP(A52,Planilha2!A50:F163,5,FALSE) -> 48 | P52: =N52+O52 -> 144 | Q52: 138
A53: FACA 24620/056 AMARELO TRAMONTINA | B53: 1128 | C53: 0 | D53: =B53+C53 -> 1128 | E53: 1197 | F53: 0 | G53: =E53+F53 -> 1197 | H53: 518 | I53: 0 | J53: =H53+I53 -> 518 | K53: 0 | L53: 936 | M53: =K53+L53 -> 936 | N53: 96 | O53: 468 | P53: =N53+O53 -> 564 | Q53: 2939
A54: CHAIRA RAIADA 24642/082 BRANCO TRAMONTINA | B54: 354 | C54: 0 | D54: =B54+C54 -> 354 | E54: 259 | F54: 10 | G54: =E54+F54 -> 269 | H54: 93 | I54: 276 | J54: =H54+I54 -> 369 | K54: 0 | L54: 390 | M54: =K54+L54 -> 390 | N54: 90 | O54: 305 | P54: =N54+O54 -> 395 | Q54: 796
A55: FACA 24619/016 AZUL TRAMONTINA | B55: 0 | C55: 0 | D55: =B55+C55 -> 0 | E55: 70 | F55: =VLOOKUP(A55,Planilha2!A53:F166,2,FALSE) -> 0 | G55: =E55+F55 -> 70 | H55: 72 | I55: =VLOOKUP(A55,Planilha2!A53:F166,3,FALSE) -> 84 | J55: =H55+I55 -> 156 | K55: 12 | L55: =VLOOKUP(A55,Planilha2!A53:F166,4,FALSE) -> 68 | M55: =K55+L55 -> 80 | N55: 72 | O55: =VLOOKUP(A55,Planilha2!A53:F166,5,FALSE) -> 60 | P55: =N55+O55 -> 132 | Q55: 226
A56: # FACA 24612/054 AMARELO TRAMONTINA | B56: 0 | C56: 0 | D56: =B56+C56 -> 0 | E56: 12 | F56: =VLOOKUP(A56,Planilha2!A54:F167,2,FALSE) -> 0 | G56: =E56+F56 -> 12 | H56: 36 | I56: =VLOOKUP(A56,Planilha2!A54:F167,3,FALSE) -> 72 | J56: =H56+I56 -> 108 | K56: 0 | L56: =VLOOKUP(A56,Planilha2!A54:F167,4,FALSE) -> 82 | M56: =K56+L56 -> 82 | N56: 72 | O56: =VLOOKUP(A56,Planilha2!A54:F167,5,FALSE) -> 85 | P56: =N56+O56 -> 157 | Q56: 120
A57: FACA 24609/028 VERDE TRAMONTINA | B57: 141 | C57: 0 | D57: =B57+C57 -> 141 | E57: 191 | F57: =VLOOKUP(A57,Planilha2!A55:F168,2,FALSE) -> 0 | G57: =E57+F57 -> 191 | H57: 129 | I57: =VLOOKUP(A57,Planilha2!A55:F168,3,FALSE) -> 35 | J57: =H57+I57 -> 164 | K57: 0 | L57: =VLOOKUP(A57,Planilha2!A55:F168,4,FALSE) -> 122 | M57: =K57+L57 -> 122 | N57: 66 | O57: =VLOOKUP(A57,Planilha2!A55:F168,5,FALSE) -> 89 | P57: =N57+O57 -> 155 | Q57: 527
A58: FACA 24619/028 VERDE TRAMONTINA | B58: 24 | C58: 0 | D58: =B58+C58 -> 24 | E58: 192 | F58: 0 | G58: =E58+F58 -> 192 | H58: 61 | I58: 98 | J58: =H58+I58 -> 159 | K58: 0 | L58: 0 | M58: =K58+L58 -> 0 | N58: 60 | O58: 180 | P58: =N58+O58 -> 240 | Q58: 337
A59: CHAIRA LISA 24643/080 BRANCO TRAMONTINA | B59: 40 | C59: 0 | D59: =B59+C59 -> 40 | E59: 63 | F59: 0 | G59: =E59+F59 -> 63 | H59: 61 | I59: 0 | J59: =H59+I59 -> 61 | K59: 0 | L59: 232 | M59: =K59+L59 -> 232 | N59: 60 | O59: 211 | P59: =N59+O59 -> 271 | Q59: 224
A60: FACA 24065/106 UTILITY LAMINA E CABO EM INOX TRAMONTINA | B60: 0 | C60: 0 | D60: =B60+C60 -> 0 | E60: 0 | F60: =VLOOKUP(A60,Planilha2!A58:F171,2,FALSE) -> 0 | G60: =E60+F60 -> 0 | H60: 0 | I60: =VLOOKUP(A60,Planilha2!A58:F171,3,FALSE) -> 0 | J60: =H60+I60 -> 0 | K60: 2 | L60: =VLOOKUP(A60,Planilha2!A58:F171,4,FALSE) -> 0 | M60: =K60+L60 -> 2 | N60: 50 | O60: =VLOOKUP(A60,Planilha2!A58:F171,5,FALSE) -> 106 | P60: =N60+O60 -> 156 | Q60: 52
A61: FACA 24607/088 BRANCO TRAMONTINA | B61: 54 | C61: 0 | D61: =B61+C61 -> 54 | E61: 77 | F61: =VLOOKUP(A61,Planilha2!A59:F172,2,FALSE) -> 0 | G61: =E61+F61 -> 77 | H61: 84 | I61: =VLOOKUP(A61,Planilha2!A59:F172,3,FALSE) -> 0 | J61: =H61+I61 -> 84 | K61: 4 | L61: =VLOOKUP(A61,Planilha2!A59:F172,4,FALSE) -> 79 | M61: =K61+L61 -> 83 | N61: 48 | O61: =VLOOKUP(A61,Planilha2!A59:F172,5,FALSE) -> 75 | P61: =N61+O61 -> 123 | Q61: 267
A62: # FACA 24663/016 AZUL TRAMONTINA | B62: 84 | C62: 0 | D62: =B62+C62 -> 84 | E62: 168 | F62: =VLOOKUP(A62,Planilha2!A60:F173,2,FALSE) -> 0 | G62: =E62+F62 -> 168 | H62: 91 | I62: =VLOOKUP(A62,Planilha2!A60:F173,3,FALSE) -> 17 | J62: =H62+I62 -> 108 | K62: 0 | L62: =VLOOKUP(A62,Planilha2!A60:F173,4,FALSE) -> 108 | M62: =K62+L62 -> 108 | N62: 48 | O62: =VLOOKUP(A62,Planilha2!A60:F173,5,FALSE) -> 72 | P62: =N62+O62 -> 120 | Q62: 391
A63: FACA 24609/018 AZUL TRAMONTINA | B63: 157 | C63: 0 | D63: =B63+C63 -> 157 | E63: 195 | F63: =VLOOKUP(A63,Planilha2!A61:F174,2,FALSE) -> 0 | G63: =E63+F63 -> 195 | H63: 105 | I63: =VLOOKUP(A63,Planilha2!A61:F174,3,FALSE) -> 52 | J63: =H63+I63 -> 157 | K63: 0 | L63: =VLOOKUP(A63,Planilha2!A61:F174,4,FALSE) -> 109 | M63: =K63+L63 -> 109 | N63: 40 | O63: =VLOOKUP(A63,Planilha2!A61:F174,5,FALSE) -> 87 | P63: =N63+O63 -> 127 | Q63: 497
A64: FACA 24607/058 AMARELO TRAMONTINA | B64: 54 | C64: 0 | D64: =B64+C64 -> 54 | E64: 77 | F64: =VLOOKUP(A64,Planilha2!A62:F175,2,FALSE) -> 0 | G64: =E64+F64 -> 77 | H64: 68 | I64: =VLOOKUP(A64,Planilha2!A62:F175,3,FALSE) -> 0 | J64: =H64+I64 -> 68 | K64: 30 | L64: =VLOOKUP(A64,Planilha2!A62:F175,4,FALSE) -> 72 | M64: =K64+L64 -> 102 | N64: 36 | O64: =VLOOKUP(A64,Planilha2!A62:F175,5,FALSE) -> 72 | P64: =N64+O64 -> 108 | Q64: 265
A65: FACA 24605/015 AZUL TRAMONTINA | B65: 0 | C65: 0 | D65: =B65+C65 -> 0 | E65: 0 | F65: 0 | G65: =E65+F65 -> 0 | H65: 0 | I65: 0 | J65: =H65+I65 -> 0 | K65: 0 | L65: 0 | M65: =K65+L65 -> 0 | N65: 36 | O65: 0 | P65: =N65+O65 -> 36 | Q65: 36
A66: CHAIRA RAIADA 24642/052 AMARELO TRAMONTINA | B66: 100 | C66: 0 | D66: =B66+C66 -> 100 | E66: 37 | F66: =VLOOKUP(A66,Planilha2!A64:F177,2,FALSE) -> 0 | G66: =E66+F66 -> 37 | H66: 19 | I66: =VLOOKUP(A66,Planilha2!A64:F177,3,FALSE) -> 42 | J66: =H66+I66 -> 61 | K66: 0 | L66: =VLOOKUP(A66,Planilha2!A64:F177,4,FALSE) -> 115 | M66: =K66+L66 -> 115 | N66: 35 | O66: =VLOOKUP(A66,Planilha2!A64:F177,5,FALSE) -> 47 | P66: =N66+O66 -> 82 | Q66: 191
A67: FACA 24607/077 VERMELHO TRAMONTINA | B67: 0 | C67: 0 | D67: =B67+C67 -> 0 | E67: 0 | F67: 0 | G67: =E67+F67 -> 0 | H67: 0 | I67: 0 | J67: =H67+I67 -> 0 | K67: 0 | L67: 0 | M67: =K67+L67 -> 0 | N67: 24 | O67: 0 | P67: =N67+O67 -> 24 | Q67: 24
A68: # FACA 24610/058 AMARELO TRAMONTINA | B68: 14 | C68: 0 | D68: =B68+C68 -> 14 | E68: 9 | F68: =VLOOKUP(A68,Planilha2!A66:F179,2,FALSE) -> 0 | G68: =E68+F68 -> 9 | H68: 12 | I68: =VLOOKUP(A68,Planilha2!A66:F179,3,FALSE) -> 3 | J68: =H68+I68 -> 15 | K68: 0 | L68: =VLOOKUP(A68,Planilha2!A66:F179,4,FALSE) -> 12 | M68: =K68+L68 -> 12 | N68: 24 | O68: =VLOOKUP(A68,Planilha2!A66:F179,5,FALSE) -> 12 | P68: =N68+O68 -> 36 | Q68: 59
A69: FACA 24601/054 AMARELO TRAMONTINA | B69: 0 | C69: 0 | D69: =B69+C69 -> 0 | E69: 0 | F69: 0 | G69: =E69+F69 -> 0 | H69: 0 | I69: 0 | J69: =H69+I69 -> 0 | K69: 0 | L69: 0 | M69: =K69+L69 -> 0 | N69: 24 | O69: 0 | P69: =N69+O69 -> 24 | Q69: 24
A70: FACA 24607/007 PRETO TRAMONTINA | B70: 0 | C70: 0 | D70: =B70+C70 -> 0 | E70: 0 | F70: 0 | G70: =E70+F70 -> 0 | H70: 0 | I70: 0 | J70: =H70+I70 -> 0 | K70: 0 | L70: 0 | M70: =K70+L70 -> 0 | N70: 24 | O70: 0 | P70: =N70+O70 -> 24 | Q70: 24
A71: CHAIRA LISA 24643/052 AMARELO TRAMONTINA | B71: 17 | C71: 0 | D71: =B71+C71 -> 17 | E71: 33 | F71: =VLOOKUP(A71,Planilha2!A69:F182,2,FALSE) -> 0 | G71: =E71+F71 -> 33 | H71: 25 | I71: =VLOOKUP(A71,Planilha2!A69:F182,3,FALSE) -> 0 | J71: =H71+I71 -> 25 | K71: 0 | L71: =VLOOKUP(A71,Planilha2!A69:F182,4,FALSE) -> 100 | M71: =K71+L71 -> 100 | N71: 18 | O71: =VLOOKUP(A71,Planilha2!A69:F182,5,FALSE) -> 13 | P71: =N71+O71 -> 31 | Q71: 93
A72: # CHAIRA LISA 24643/022 VERDE TRAMONTINA | B72: 32 | C72: 0 | D72: =B72+C72 -> 32 | E72: 196 | F72: =VLOOKUP(A72,Planilha2!A70:F183,2,FALSE) -> 0 | G72: =E72+F72 -> 196 | H72: 0 | I72: =VLOOKUP(A72,Planilha2!A70:F183,3,FALSE) -> 0 | J72: =H72+I72 -> 0 | K72: 20 | L72: =VLOOKUP(A72,Planilha2!A70:F183,4,FALSE) -> 19 | M72: =K72+L72 -> 39 | N72: 15 | O72: =VLOOKUP(A72,Planilha2!A70:F183,5,FALSE) -> 17 | P72: =N72+O72 -> 32 | Q72: 263
A73: FACA 24601/084 BRANCO TRAMONTINA | B73: 0 | C73: 0 | D73: =B73+C73 -> 0 | E73: 0 | F73: 0 | G73: =E73+F73 -> 0 | H73: 0 | I73: 0 | J73: =H73+I73 -> 0 | K73: 0 | L73: 0 | M73: =K73+L73 -> 0 | N73: 12 | O73: 0 | P73: =N73+O73 -> 12 | Q73: 12
A74: FACA 24604/086 BRANCO TRAMONTINA | B74: 244 | C74: 0 | D74: =B74+C74 -> 244 | E74: 48 | F74: =VLOOKUP(A74,Planilha2!A72:F185,2,FALSE) -> 0 | G74: =E74+F74 -> 48 | H74: 68 | I74: =VLOOKUP(A74,Planilha2!A72:F185,3,FALSE) -> 0 | J74: =H74+I74 -> 68 | K74: 14 | L74: =VLOOKUP(A74,Planilha2!A72:F185,4,FALSE) -> 30 | M74: =K74+L74 -> 44 | N74: 12 | O74: =VLOOKUP(A74,Planilha2!A72:F185,5,FALSE) -> 0 | P74: =N74+O74 -> 12 | Q74: 386
A75: FACA 24602/005 PRETO TRAMONTINA | B75: 9 | C75: 0 | D75: =B75+C75 -> 9 | E75: 31 | F75: =VLOOKUP(A75,Planilha2!A73:F186,2,FALSE) -> 0 | G75: =E75+F75 -> 31 | H75: 13 | I75: =VLOOKUP(A75,Planilha2!A73:F186,3,FALSE) -> 0 | J75: =H75+I75 -> 13 | K75: 4 | L75: =VLOOKUP(A75,Planilha2!A73:F186,4,FALSE) -> 10 | M75: =K75+L75 -> 14 | N75: 12 | O75: =VLOOKUP(A75,Planilha2!A73:F186,5,FALSE) -> 6 | P75: =N75+O75 -> 18 | Q75: 69
A76: # FACA 24605/025 VERDE TRAMONTINA | B76: 0 | C76: 0 | D76: =B76+C76 -> 0 | E76: 0 | F76: 0 | G76: =E76+F76 -> 0 | H76: 0 | I76: 0 | J76: =H76+I76 -> 0 | K76: 0 | L76: 0 | M76: =K76+L76 -> 0 | N76: 12 | O76: 0 | P76: =N76+O76 -> 12 | Q76: 12
A77: # FACA 24606/087 BRANCO TRAMONTINA | B77: 0 | C77: 0 | D77: =B77+C77 -> 0 | E77: 0 | F77: =VLOOKUP(A77,Planilha2!A75:F188,2,FALSE) -> 0 | G77: =E77+F77 -> 0 | H77: 0 | I77: =VLOOKUP(A77,Planilha2!A75:F188,3,FALSE) -> 0 | J77: =H77+I77 -> 0 | K77: 0 | L77: =VLOOKUP(A77,Planilha2!A75:F188,4,FALSE) -> 48 | M77: =K77+L77 -> 48 | N77: 12 | O77: =VLOOKUP(A77,Planilha2!A75:F188,5,FALSE) -> 24 | P77: =N77+O77 -> 36 | Q77: 12
A78: # FACA 24607/018 AZUL TRAMONTINA | B78: 98 | C78: 0 | D78: =B78+C78 -> 98 | E78: 200 | F78: 0 | G78: =E78+F78 -> 200 | H78: 72 | I78: 0 | J78: =H78+I78 -> 72 | K78: 24 | L78: 108 | M78: =K78+L78 -> 132 | N78: 12 | O78: 96 | P78: =N78+O78 -> 108 | Q78: 406
A79: FACA 24663/056 AMARELO TRAMONTINA | B79: 5 | C79: 0 | D79: =B79+C79 -> 5 | E79: 29 | F79: 0 | G79: =E79+F79 -> 29 | H79: 21 | I79: 4 | J79: =H79+I79 -> 25 | K79: 0 | L79: 19 | M79: =K79+L79 -> 19 | N79: 12 | O79: 59 | P79: =N79+O79 -> 71 | Q79: 67
A80: FACA 24663/086 BRANCO TRAMONTINA | B80: 18 | C80: 0 | D80: =B80+C80 -> 18 | E80: 28 | F80: 0 | G80: =E80+F80 -> 28 | H80: 29 | I80: 7 | J80: =H80+I80 -> 36 | K80: 0 | L80: 11 | M80: =K80+L80 -> 11 | N80: 12 | O80: 36 | P80: =N80+O80 -> 48 | Q80: 87
A81: # CHAIRA RAIADA 24642/012 AZUL TRAMONTINA | B81: 60 | C81: 0 | D81: =B81+C81 -> 60 | E81: 51 | F81: =VLOOKUP(A81,Planilha2!A79:F192,2,FALSE) -> 0 | G81: =E81+F81 -> 51 | H81: 36 | I81: =VLOOKUP(A81,Planilha2!A79:F192,3,FALSE) -> 0 | J81: =H81+I81 -> 36 | K81: 0 | L81: =VLOOKUP(A81,Planilha2!A79:F192,4,FALSE) -> 50 | M81: =K81+L81 -> 50 | N81: 10 | O81: =VLOOKUP(A81,Planilha2!A79:F192,5,FALSE) -> 22 | P81: =N81+O81 -> 32 | Q81: 157
A82: SUPORTE 24692/000 EM AÇO PARA ALINHADOR DE FIO TRAMONTINA | B82: 188 | C82: 0 | D82: =B82+C82 -> 188 | E82: 162 | F82: 0 | G82: =E82+F82 -> 162 | H82: 29 | I82: 49 | J82: =H82+I82 -> 78 | K82: 1 | L82: 131 | M82: =K82+L82 -> 132 | N82: 10 | O82: 111 | P82: =N82+O82 -> 121 | Q82: 390
A83: # CHAIRA LISA 24643/012 AZUL TRAMONTINA | B83: 50 | C83: 0 | D83: =B83+C83 -> 50 | E83: 47 | F83: =VLOOKUP(A83,Planilha2!A81:F194,2,FALSE) -> 0 | G83: =E83+F83 -> 47 | H83: 10 | I83: =VLOOKUP(A83,Planilha2!A81:F194,3,FALSE) -> 0 | J83: =H83+I83 -> 10 | K83: 7 | L83: =VLOOKUP(A83,Planilha2!A81:F194,4,FALSE) -> 50 | M83: =K83+L83 -> 57 | N83: 6 | O83: =VLOOKUP(A83,Planilha2!A81:F194,5,FALSE) -> 17 | P83: =N83+O83 -> 23 | Q83: 120
A84: # CHAIRA RAIADA 24642/022 VERDE TRAMONTINA | B84: 34 | C84: 0 | D84: =B84+C84 -> 34 | E84: 151 | F84: =VLOOKUP(A84,Planilha2!A82:F195,2,FALSE) -> 10 | G84: =E84+F84 -> 161 | H84: 42 | I84: =VLOOKUP(A84,Planilha2!A82:F195,3,FALSE) -> 6 | J84: =H84+I84 -> 48 | K84: 0 | L84: =VLOOKUP(A84,Planilha2!A82:F195,4,FALSE) -> 48 | M84: =K84+L84 -> 48 | N84: 4 | O84: =VLOOKUP(A84,Planilha2!A82:F195,5,FALSE) -> 20 | P84: =N84+O84 -> 24 | Q84: 231
A85: FACA 24067/108 SUBLIME LAMINA E CABO EM INOX TRAMONTINA | B85: 0 | C85: 0 | D85: =B85+C85 -> 0 | E85: 0 | F85: 0 | G85: =E85+F85 -> 0 | H85: 0 | I85: 0 | J85: =H85+I85 -> 0 | K85: 0 | L85: 0 | M85: =K85+L85 -> 0 | N85: 4 | O85: 0 | P85: =N85+O85 -> 4 | Q85: 4
A86: # FACA 24611/018 AZUL TRAMONTINA | B86: 9 | C86: 0 | D86: =B86+C86 -> 9 | E86: 69 | F86: 0 | G86: =E86+F86 -> 69 | H86: 0 | I86: 0 | J86: =H86+I86 -> 0 | K86: 44 | L86: 24 | M86: =K86+L86 -> 68 | N86: 3 | O86: 51 | P86: =N86+O86 -> 54 | Q86: 125
A87: # FACA 24605/076 VERMELHO TRAMONTINA | B87: 108 | C87: 0 | D87: =B87+C87 -> 108 | E87: 278 | F87: 0 | G87: =E87+F87 -> 278 | H87: 0 | I87: 0 | J87: =H87+I87 -> 0 | K87: 0 | L87: 0 | M87: =K87+L87 -> 0 | N87: 2 | O87: 0 | P87: =N87+O87 -> 2 | Q87: 388
A88: FACA 24600/015 AZUL SANGRIA TRAMONTINA | B88: 12 | C88: 0 | D88: =B88+C88 -> 12 | E88: 0 | F88: 0 | G88: =E88+F88 -> 0 | H88: 0 | I88: 0 | J88: =H88+I88 -> 0 | K88: 0 | L88: 0 | M88: =K88+L88 -> 0 | N88: 0 | O88: 0 | P88: =N88+O88 -> 0 | Q88: 12
A89: FACA 24609/058 AMARELO SEM PONTA TRAMONTINA | B89: 112 | C89: 0 | D89: =B89+C89 -> 112 | E89: 140 | F89: =VLOOKUP(A89,Planilha2!A87:F200,2,FALSE) -> 0 | G89: =E89+F89 -> 140 | H89: 42 | I89: =VLOOKUP(A89,Planilha2!A87:F200,3,FALSE) -> 36 | J89: =H89+I89 -> 78 | K89: 0 | L89: =VLOOKUP(A89,Planilha2!A87:F200,4,FALSE) -> 4 | M89: =K89+L89 -> 4 | N89: 0 | O89: =VLOOKUP(A89,Planilha2!A87:F200,5,FALSE) -> 0 | P89: =N89+O89 -> 0 | Q89: 294
A90: # FACA 24620/026 VERDE TRAMONTINA | B90: 0 | C90: 0 | D90: =B90+C90 -> 0 | E90: 24 | F90: =VLOOKUP(A90,Planilha2!A88:F201,2,FALSE) -> 0 | G90: =E90+F90 -> 24 | H90: 0 | I90: =VLOOKUP(A90,Planilha2!A88:F201,3,FALSE) -> 0 | J90: =H90+I90 -> 0 | K90: 0 | L90: =VLOOKUP(A90,Planilha2!A88:F201,4,FALSE) -> 0 | M90: =K90+L90 -> 0 | N90: 0 | O90: =VLOOKUP(A90,Planilha2!A88:F201,5,FALSE) -> 0 | P90: =N90+O90 -> 0 | Q90: 24
A91: # FACA 24620/080 BRANCO TRAMONTINA | B91: 12 | C91: 0 | D91: =B91+C91 -> 12 | E91: 0 | F91: =VLOOKUP(A91,Planilha2!A89:F202,2,FALSE) -> 0 | G91: =E91+F91 -> 0 | H91: 17 | I91: =VLOOKUP(A91,Planilha2!A89:F202,3,FALSE) -> 0 | J91: =H91+I91 -> 17 | K91: 0 | L91: =VLOOKUP(A91,Planilha2!A89:F202,4,FALSE) -> 0 | M91: =K91+L91 -> 0 | N91: 0 | O91: =VLOOKUP(A91,Planilha2!A89:F202,5,FALSE) -> 8 | P91: =N91+O91 -> 8 | Q91: 29
A92: # FACA 24620/050 AMARELO TRAMONTINA | B92: 12 | C92: 0 | D92: =B92+C92 -> 12 | E92: 0 | F92: =VLOOKUP(A92,Planilha2!A90:F203,2,FALSE) -> 0 | G92: =E92+F92 -> 0 | H92: 0 | I92: =VLOOKUP(A92,Planilha2!A90:F203,3,FALSE) -> 0 | J92: =H92+I92 -> 0 | K92: 0 | L92: =VLOOKUP(A92,Planilha2!A90:F203,4,FALSE) -> 0 | M92: =K92+L92 -> 0 | N92: 0 | O92: =VLOOKUP(A92,Planilha2!A90:F203,5,FALSE) -> 12 | P92: =N92+O92 -> 12 | Q92: 12
A93: HASTE 24691/000 PARA ALINHADOR DE FIO PROFISSIONAL MODELO ANTIGO TRAMONTINA | B93: 777 | C93: 0 | D93: =B93+C93 -> 777 | E93: 329 | F93: 0 | G93: =E93+F93 -> 329 | H93: 263 | I93: 0 | J93: =H93+I93 -> 263 | K93: 32 | L93: 0 | M93: =K93+L93 -> 32 | N93: 0 | O93: 197 | P93: =N93+O93 -> 197 | Q93: 1401
A94: FACA 24611/028 VERDE TRAMONTINA | B94: 17 | C94: 0 | D94: =B94+C94 -> 17 | E94: 66 | F94: 0 | G94: =E94+F94 -> 66 | H94: 0 | I94: 0 | J94: =H94+I94 -> 0 | K94: 44 | L94: 0 | M94: =K94+L94 -> 44 | N94: 0 | O94: 15 | P94: =N94+O94 -> 15 | Q94: 127
A95: FACA 24609/058 AMARELO TRAMONTINA | B95: 0 | C95: 0 | D95: =B95+C95 -> 0 | E95: 12 | F95: =VLOOKUP(A95,Planilha2!A93:F206,2,FALSE) -> 0 | G95: =E95+F95 -> 12 | H95: 12 | I95: =VLOOKUP(A95,Planilha2!A93:F206,3,FALSE) -> 0 | J95: =H95+I95 -> 12 | K95: 0 | L95: =VLOOKUP(A95,Planilha2!A93:F206,4,FALSE) -> 12 | M95: =K95+L95 -> 12 | N95: 0 | O95: =VLOOKUP(A95,Planilha2!A93:F206,5,FALSE) -> 0 | P95: =N95+O95 -> 0 | Q95: 24
A96: FACA 24609/028 VERDE SEM PONTA TRAMONTINA | B96: 37 | C96: 0 | D96: =B96+C96 -> 37 | E96: 5 | F96: 0 | G96: =E96+F96 -> 5 | H96: 0 | I96: 35 | J96: =H96+I96 -> 35 | K96: 12 | L96: 0 | M96: =K96+L96 -> 12 | N96: 0 | O96: 0 | P96: =N96+O96 -> 0 | Q96: 54
A97: FACA 24609/018 AZUL SEM PONTA TRAMONTINA | B97: 24 | C97: 0 | D97: =B97+C97 -> 24 | E97: 6 | F97: 0 | G97: =E97+F97 -> 6 | H97: 0 | I97: 52 | J97: =H97+I97 -> 52 | K97: 12 | L97: 0 | M97: =K97+L97 -> 12 | N97: 0 | O97: 0 | P97: =N97+O97 -> 0 | Q97: 42
A98: # FACA 24620/016 AZUL TRAMONTINA | B98: 1176 | C98: 0 | D98: =B98+C98 -> 1176 | E98: 660 | F98: 0 | G98: =E98+F98 -> 660 | H98: 0 | I98: 0 | J98: =H98+I98 -> 0 | K98: 0 | L98: 0 | M98: =K98+L98 -> 0 | N98: 0 | O98: 0 | P98: =N98+O98 -> 0 | Q98: 1836
A99: # TESOURA DESMONTADA INOX 8 MICROSS 25924/088 TRAMONTINA | B99: 0 | C99: 0 | D99: =B99+C99 -> 0 | E99: 0 | F99: 0 | G99: =E99+F99 -> 0 | H99: 40 | I99: 0 | J99: =H99+I99 -> 40 | K99: 0 | L99: 0 | M99: =K99+L99 -> 0 | N99: 0 | O99: 0 | P99: =N99+O99 -> 0 | Q99: 40
A100: FACA 24073/008 CHEF 8 CRONOS LAMINA E CABO EM INOX | B100: 0 | C100: 0 | D100: =B100+C100 -> 0 | E100: 4 | F100: 0 | G100: =E100+F100 -> 4 | H100: 0 | I100: 0 | J100: =H100+I100 -> 0 | K100: 0 | L100: 0 | M100: =K100+L100 -> 0 | N100: 0 | O100: 0 | P100: =N100+O100 -> 0 | Q100: 4
...

Sheet Planilha2
A1: Ano | B1: 2021 | C1: 2022 | D1: 2023 | E1: 2024 | F1: Total por LINHAS
A2: Nome Produto | B2: Quantidade | C2: Quantidade | D2: Quantidade | E2: Quantidade | F2: Quantidade
A3: FACA 24605/016 AZUL TRAMONTINA | B3: 0 | C3: 3926 | D3: 6107 | E3: 3724 | F3: 13757
A4: FACA 24605/086 BRANCO TRAMONTINA | B4: 0 | C4: 3427 | D4: 5618 | E4: 3572 | F4: 12617
A5: FACA 24602/085 BRANCO TRAMONTINA | B5: 90 | C5: 2336 | D5: 4529 | E5: 3504 | F5: 10459
A6: FACA 24605/056 AMARELO TRAMONTINA | B6: 0 | C6: 3000 | D6: 5986 | E6: 3474 | F6: 12460
A7: FACA 24605/026 VERDE TRAMONTINA | B7: 0 | C7: 3499 | D7: 5607 | E7: 3444 | F7: 12550
A8: FACA 24602/055 AMARELO TRAMONTINA | B8: 0 | C8: 2069 | D8: 3730 | E8: 3348 | F8: 9147
A9: FACA 24619/086 BRANCO TRAMONTINA | B9: 120 | C9: 1466 | D9: 3653 | E9: 2853 | F9: 8092
A10: FACA 24619/056 AMARELO TRAMONTINA | B10: 277 | C10: 1510 | D10: 3452 | E10: 2672 | F10: 7911
A11: FACA 24652/085 BRANCO TRAMONTINA | B11: 0 | C11: 1519 | D11: 2564 | E11: 1972 | F11: 6055
A12: FACA 24614/085 BRANCO TRAMONTINA | B12: 0 | C12: 1375 | D12: 2401 | E12: 1966 | F12: 5742
A13: FACA 24652/055 AMARELO TRAMONTINA | B13: 0 | C13: 1352 | D13: 2332 | E13: 1928 | F13: 5612
A14: FACA 24667/085 BRANCO TRAMONTINA | B14: 300 | C14: 1056 | D14: 2459 | E14: 1745 | F14: 5560
... A114: Total por COLUNAS | B114: 1149 | C114: 41309 | D114: 80834 | E114: 59405 | F114: 182697
