Workbook

Sheet Planilha1
A1: Ano | B1: 2020 PAN | C1: 2020 CORAL | D1: TOTAL 2020 | E1: PAN 2021 | F1: CORRAL 2021 | G1: TOTAL 2021 | H1: PAN 2022 | I1: CORRAL 2022 | J1: TOTAL 2022 | K1: PAN 2023 | L1: CORRAL 2023 | M1: TOTAL 2023 | N1: PAN 2024 | O1: CORRAL 2024 | P1: TOTAL 2024 | Q1: Total 5 anos
A2: Nome Produto | B2: Quantidade | E2: Quantidade | H2: Quantidade | K2: Quantidade | N2: Quantidade | Q2: Quantidade
A3: FACA 24605/016 AZUL TRAMONTINA | B3: 4728 | C3: 0 | D3: =B3+C3 -> 4728 | E3: 5529 | F3: =VLOOKUP(A3,Planilha2!A1:F114,2,FALSE) -> 0 | G3: =E3+F3 -> 5529 | H3: 2035 | I3: =VLOOKUP(A3,Planilha2!A1:F114,3,FALSE) -> 3926 | J3: =H3+I3 -> 5961 | K3: 0 | L3: =VLOOKUP(A3,Planilha2!A1:F114,4,FALSE) -> 6107 | M3: =K3+L3 -> 6107 | N3: 2505 | O3: =VLOOKUP(A3,Planilha2!A1:F114,5,FALSE) -> 3724 | P3: =N3+O3 -> 6229 | Q3: 14797
A4: FACA 24605/026 VERDE TRAMONTINA | B4: 4518 | C4: 0 | D4: =B4+C4 -> 4518 | E4: 5305 | F4: =VLOOKUP(A4,Planilha2!A2:F115,2,FALSE) -> 0 | G4: =E4+F4 -> 5305 | H4: 1808 | I4: =VLOOKUP(A4,Planilha2!A2:F115,3,FALSE) -> 3499 | J4: =H4+I4 -> 5307 | K4: 0 | L4: =VLOOKUP(A4,Planilha2!A2:F115,4,FALSE) -> 5607 | M4: =K4+L4 -> 5607 | N4: 2464 | O4: =VLOOKUP(A4,Planilha2!A2:F115,5,FALSE) -> 3444 | P4: =N4+O4 -> 5908 | Q4: 14095
A5: FACA 24605/056 AMARELO TRAMONTINA | B5: 4305 | C5: 0 | D5: =B5+C5 -> 4305 | E5: 5246 | F5: =VLOOKUP(A5,Planilha2!A3:F116,2,FALSE) -> 0 | G5: =E5+F5 -> 5246 | H5: 2525 | I5: =VLOOKUP(A5,Planilha2!A3:F116,3,FALSE) -> 3000 | J5: =H5+I5 -> 5525 | K5: 0 | L5: =VLOOKUP(A5,Planilha2!A3:F116,4,FALSE) -> 5986 | M5: =K5+L5 -> 5986 | N5: 2276 | O5: =VLOOKUP(A5,Planilha2!A3:F116,5,FALSE) -> 3474 | P5: =N5+O5 -> 5750 | Q5: 14352
A6: FACA 24619/086 BRANCO TRAMONTINA | B6: 1672 | C6: 0 | D6: =B6+C6 -> 1672 | E6: 2442 | F6: =VLOOKUP(A6,Planilha2!A4:F117,2,FALSE) -> 120 | G6: =E6+F6 -> 2562 | H6: 1440 | I6: =VLOOKUP(A6,Planilha2!A4:F117,3,FALSE) -> 1466 | J6: =H6+I6 -> 2906 | K6: 0 | L6: =VLOOKUP(A6,Planilha2!A4:F117,4,FALSE) -> 3653 | M6: =K6+L6 -> 3653 | N6: 2086 | O6: =VLOOKUP(A6,Planilha2!A4:F117,5,FALSE) -> 2853 | P6: =N6+O6 -> 4939 | Q6: 7640
A7: FACA 24605/086 BRANCO TRAMONTINA | B7: 4467 | C7: 0 | D7: =B7+C7 -> 4467 | E7: 5604 | F7: 0 | G7: =E7+F7 -> 5604 | H7: 2464 | I7: 3427 | J7: =H7+I7 -> 5891 | K7: 324 | L7: 5618 | M7: =K7+L7 -> 5942 | N7: 2030 | O7: 3572 | P7: =N7+O7 -> 5602 | Q7: 14889
A8: FACA 24619/056 AMARELO TRAMONTINA | B8: 1706 | C8: 0 | D8: =B8+C8 -> 1706 | E8: 2130 | F8: =VLOOKUP(A8,Planilha2!A6:F119,2,FALSE) -> 277 | G8: =E8+F8 -> 2407 | H8: 1343 | I8: =VLOOKUP(A8,Planilha2!A6:F119,3,FALSE) -> 1510 | J8: =H8+I8 -> 2853 | K8: 0 | L8: =VLOOKUP(A8,Planilha2!A6:F119,4,FALSE) -> 3452 | M8: =K8+L8 -> 3452 | N8: 2013 | O8: =VLOOKUP(A8,Planilha2!A6:F119,5,FALSE) -> 2672 | P8: =N8+O8 -> 4685 | Q8: 7192
A9: FACA 24602/085 BRANCO TRAMONTINA | B9: 3674 | C9: 0 | D9: =B9+C9 -> 3674 | E9: 4348 | F9: 90 | G9: =E9+F9 -> 4438 | H9: 1904 | I9: 2336 | J9: =H9+I9 -> 4240 | K9: 0 | L9: 4529 | M9: =K9+L9 -> 4529 | N9: 1369 | O9: 3504 | P9: =N9+O9 -> 4873 | Q9: 11295
A10: FACA 24602/055 AMARELO TRAMONTINA | B10: 2592 | C10: 0 | D10: =B10+C10 -> 2592 | E10: 2737 | F10: =VLOOKUP(A10,Planilha2!A8:F121,2,FALSE) -> 0 | G10: =E10+F10 -> 2737 | H10: 1380 | I10: =VLOOKUP(A10,Planilha2!A8:F121,3,FALSE) -> 2069 | J10: =H10+I10 -> 3449 | K10: 0 | L10: =VLOOKUP(A10,Planilha2!A8:F121,4,FALSE) -> 3730 | M10: =K10+L10 -> 3730 | N10: 1308 | O10: =VLOOKUP(A10,Planilha2!A8:F121,5,FALSE) -> 3348 | P10: =N10+O10 -> 4656 | Q10: 8017
A11: FACA 24652/085 BRANCO TRAMONTINA | B11: 1442 | C11: 0 | D11: =B11+C11 -> 1442 | E11: 1759 | F11: =VLOOKUP(A11,Planilha2!A9:F122,2,FALSE) -> 0 | G11: =E11+F11 -> 1759 | H11: 723 | I11: =VLOOKUP(A11,Planilha2!A9:F122,3,FALSE) -> 1519 | J11: =H11+I11 -> 2242 | K11: 0 | L11: =VLOOKUP(A11,Planilha2!A9:F122,4,FALSE) -> 2564 | M11: =K11+L11 -> 2564 | N11: 1268 | O11: =VLOOKUP(A11,Planilha2!A9:F122,5,FALSE) -> 1972 | P11: =N11+O11 -> 3240 | Q11: 5192
A12: FACA 24652/055 AMARELO TRAMONTINA | B12: 1335 | C12: 0 | D12: =B12+C12 -> 1335 | E12: 1771 | F12: =VLOOKUP(A12,Planilha2!A10:F123,2,FALSE) -> 0 | G12: =E12+F12 -> 1771 | H12: 740 | I12: =VLOOKUP(A12,Planilha2!A10:F123,3,FALSE) -> 1352 | J12: =H12+I12 -> 2092 | K12: 0 | L12: =VLOOKUP(A12,Planilha2!A10:F123,4,FALSE) -> 2332 | M12: =K12+L12 -> 2332 | N12: 1088 | O12: =VLOOKUP(A12,Planilha2!A10:F123,5,FALSE) -> 1928 | P12: =N12+O12 -> 3016 | Q12: 4934
A13: FACA 24614/055 AMARELO TRAMONTINA | B13: 1800 | C13: 0 | D13: =B13+C13 -> 1800 | E13: 1848 | F13: =VLOOKUP(A13,Planilha2!A11:F124,2,FALSE) -> 0 | G13: =E13+F13 -> 1848 | H13: 832 | I13: =VLOOKUP(A13,Planilha2!A11:F124,3,FALSE) -> 1308 | J13: =H13+I13 -> 2140 | K13: 0 | L13: =VLOOKUP(A13,Planilha2!A11:F124,4,FALSE) -> 1815 | M13: =K13+L13 -> 1815 | N13: 1019 | O13: =VLOOKUP(A13,Planilha2!A11:F124,5,FALSE) -> 1598 | P13: =N13+O13 -> 2617 | Q13: 5499
A14: FACA 24614/085 BRANCO TRAMONTINA | B14: 2358 | C14: 0 | D14: =B14+C14 -> 2358 | E14: 2393 | F14: =VLOOKUP(A14,Planilha2!A12:F125,2,FALSE) -> 0 | G14: =E14+F14 -> 2393 | H14: 1086 | I14: =VLOOKUP(A14,Planilha2!A12:F125,3,FALSE) -> 1375 | J14: =H14+I14 -> 2461 | K14: 0 | L14: =VLOOKUP(A14,Planilha2!A12:F125,4,FALSE) -> 2401 | M14: =K14+L14 -> 2401 | N14: 920 | O14: =VLOOKUP(A14,Planilha2!A12:F125,5,FALSE) -> 1966 | P14: =N14+O14 -> 2886 | Q14: 6757
A15: FACA 24660/086 BRANCO TRAMONTINA | B15: 2339 | C15: 0 | D15: =B15+C15 -> 2339 | E15: 2220 | F15: =VLOOKUP(A15,Planilha2!A13:F126,2,FALSE) -> 0 | G15: =E15+F15 -> 2220 | H15: 936 | I15: =VLOOKUP(A15,Planilha2!A13:F126,3,FALSE) -> 684 | J15: =H15+I15 -> 1620 | K15: 0 | L15: =VLOOKUP(A15,Planilha2!A13:F126,4,FALSE) -> 2034 | M15: =K15+L15 -> 2034 | N15: 816 | O15: =VLOOKUP(A15,Planilha2!A13:F126,5,FALSE) -> 1608 | P15: =N15+O15 -> 2424 | Q15: 6311
A16: FACA 24606/026 VERDE TRAMONTINA | B16: 1165 | C16: 0 | D16: =B16+C16 -> 1165 | E16: 1415 | F16: =VLOOKUP(A16,Planilha2!A14:F127,2,FALSE) -> 0 | G16: =E16+F16 -> 1415 | H16: 524 | I16: =VLOOKUP(A16,Planilha2!A14:F127,3,FALSE) -> 804 | J16: =H16+I16 -> 1328 | K16: 0 | L16: =VLOOKUP(A16,Planilha2!A14:F127,4,FALSE) -> 1234 | M16: =K16+L16 -> 1234 | N16: 808 | O16: =VLOOKUP(A16,Planilha2!A14:F127,5,FALSE) -> 1140 | P16: =N16+O16 -> 1948 | Q16: 3912
A17: FACA 24660/056 AMARELO TRAMONTINA | B17: 1936 | C17: 0 | D17: =B17+C17 -> 1936 | E17: 2112 | F17: =VLOOKUP(A17,Planilha2!A15:F128,2,FALSE) -> 0 | G17: =E17+F17 -> 2112 | H17: 935 | I17: =VLOOKUP(A17,Planilha2!A15:F128,3,FALSE) -> 805 | J17: =H17+I17 -> 1740 | K17: 0 | L17: =VLOOKUP(A17,Planilha2!A15:F128,4,FALSE) -> 2060 | M17: =K17+L17 -> 2060 | N17: 792 | O17: =VLOOKUP(A17,Planilha2!A15:F128,5,FALSE) -> 1644 | P17: =N17+O17 -> 2436 | Q17: 5775
A18: FACA 24602/025 VERDE TRAMONTINA | B18: 1734 | C18: 0 | D18: =B18+C18 -> 1734 | E18: 1988 | F18: =VLOOKUP(A18,Planilha2!A16:F129,2,FALSE) -> 42 | G18: =E18+F18 -> 2030 | H18: 1028 | I18: =VLOOKUP(A18,Planilha2!A16:F129,3,FALSE) -> 1621 | J18: =H18+I18 -> 2649 | K18: 36 | L18: =VLOOKUP(A18,Planilha2!A16:F129,4,FALSE) -> 2255 | M18: =K18+L18 -> 2291 | N18: 792 | O18: =VLOOKUP(A18,Planilha2!A16:F129,5,FALSE) -> 1459 | P18: =N18+O18 -> 2251 | Q18: 5578
A19: FACA 24667/085 BRANCO TRAMONTINA | B19: 144 | C19: 0 | D19: =B19+C19 -> 144 | E19: 899 | F19: 300 | G19: =E19+F19 -> 1199 | H19: 1244 | I19: 2056 | J19: =H19+I19 -> 3300 | K19: 0 | L19: 2459 | M19: =K19+L19 -> 2459 | N19: 733 | O19: 1745 | P19: =N19+O19 -> 2478 | Q19: 3020
A20: FACA 24606/016 AZUL TRAMONTINA | B20: 1062 | C20: 0 | D20: =B20+C20 -> 1062 | E20: 1364 | F20: =VLOOKUP(A20,Planilha2!A18:F131,2,FALSE) -> 0 | G20: =E20+F20 -> 1364 | H20: 629 | I20: =VLOOKUP(A20,Planilha2!A18:F131,3,FALSE) -> 589 | J20: =H20+I20 -> 1218 | K20: 0 | L20: =VLOOKUP(A20,Planilha2!A18:F131,4,FALSE) -> 1128 | M20: =K20+L20 -> 1128 | N20: 732 | O20: =VLOOKUP(A20,Planilha2!A18:F131,5,FALSE) -> 994 | P20: =N20+O20 -> 1726 | Q20: 3787
A21: FACA 24667/055 AMARELO TRAMONTINA | B21: 180 | C21: 0 | D21: =B21+C21 -> 180 | E21: 1067 | F21: 252 | G21: =E21+F21 -> 1319 | H21: 974 | I21: 1188 | J21: =H21+I21 -> 2162 | K21: 0 | L21: 2127 | M21: =K21+L21 -> 2127 | N21: 626 | O21: 1709 | P21: =N21+O21 -> 2335 | Q21: 2847
A22: FACA 24602/015 AZUL TRAMONTINA | B22: 1292 | C22: 0 | D22: =B22+C22 -> 1292 | E22: 1621 | F22: =VLOOKUP(A22,Planilha2!A20:F133,2,FALSE) -> 0 | G22: =E22+F22 -> 1621 | H22: 1045 | I22: =VLOOKUP(A22,Planilha2!A20:F133,3,FALSE) -> 1003 | J22: =H22+I22 -> 2048 | K22: 36 | L22: =VLOOKUP(A22,Planilha2!A20:F133,4,FALSE) -> 1657 | M22: =K22+L22 -> 1693 | N22: 528 | O22: =VLOOKUP(A22,Planilha2!A20:F133,5,FALSE) -> 1243 | P22: =N22+O22 -> 1771 | Q22: 4522
A23: FACA 24615/085 BRANCO TRAMONTINA | B23: 1200 | C23: 0 | D23: =B23+C23 -> 1200 | E23: 1466 | F23: =VLOOKUP(A23,Planilha2!A21:F134,2,FALSE) -> 0 | G23: =E23+F23 -> 1466 | H23: 690 | I23: =VLOOKUP(A23,Planilha2!A21:F134,3,FALSE) -> 646 | J23: =H23+I23 -> 1336 | K23: 24 | L23: =VLOOKUP(A23,Planilha2!A21:F134,4,FALSE) -> 1087 | M23: =K23+L23 -> 1111 | N23: 424 | O23: =VLOOKUP(A23,Planilha2!A21:F134,5,FALSE) -> 848 | P23: =N23+O23 -> 1272 | Q23: 3804
A24: ALINHADOR DE FIO PROFISSIONAL 24690/000 INOX MODELO NOVO TRAMONTINA | B24: 517 | C24: 0 | D24: =B24+C24 -> 517 | E24: 969 | F24: =VLOOKUP(A24,Planilha2!A22:F135,2,FALSE) -> 0 | G24: =E24+F24 -> 969 | H24: 561 | I24: =VLOOKUP(A24,Planilha2!A22:F135,3,FALSE) -> 379 | J24: =H24+I24 -> 940 | K24: 360 | L24: =VLOOKUP(A24,Planilha2!A22:F135,4,FALSE) -> 1059 | M24: =K24+L24 -> 1419 | N24: 405 | O24: =VLOOKUP(A24,Planilha2!A22:F135,5,FALSE) -> 990 | P24: =N24+O24 -> 1395 | Q24: 2812
A25: FACA 24615/055 AMARELO TRAMONTINA | B25: 1238 | C25: 0 | D25: =B25+C25 -> 1238 | E25: 1358 | F25: =VLOOKUP(A25,Planilha2!A23:F136,2,FALSE) -> 0 | G25: =E25+F25 -> 1358 | H25: 636 | I25: =VLOOKUP(A25,Planilha2!A23:F136,3,FALSE) -> 661 | J25: =H25+I25 -> 1297 | K25: 0 | L25: =VLOOKUP(A25,Planilha2!A23:F136,4,FALSE) -> 991 | M25: =K25+L25 -> 991 | N25: 301 | O25: =VLOOKUP(A25,Planilha2!A23:F136,5,FALSE) -> 818 | P25: =N25+O25 -> 1119 | Q25: 3533
A26: FACA 24619/058 AMARELO TRAMONTINA | B26: 688 | C26: 0 | D26: =B26+C26 -> 688 | E26: 479 | F26: =VLOOKUP(A26,Planilha2!A24:F137,2,FALSE) -> 0 | G26: =E26+F26 -> 479 | H26: 276 | I26: =VLOOKUP(A26,Planilha2!A24:F137,3,FALSE) -> 325 | J26: =H26+I26 -> 601 | K26: 0 | L26: =VLOOKUP(A26,Planilha2!A24:F137,4,FALSE) -> 708 | M26: =K26+L26 -> 708 | N26: 264 | O26: =VLOOKUP(A26,Planilha2!A24:F137,5,FALSE) -> 348 | P26: =N26+O26 -> 612 | Q26: 1707
A27: FACA 24619/088 BRANCO TRAMONTINA | B27: 612 | C27: 0 | D27: =B27+C27 -> 612 | E27: 428 | F27: =VLOOKUP(A27,Planilha2!A25:F138,2,FALSE) -> 0 | G27: =E27+F27 -> 428 | H27: 256 | I27: =VLOOKUP(A27,Planilha2!A25:F138,3,FALSE) -> 390 | J27: =H27+I27 -> 646 | K27: 0 | L27: =VLOOKUP(A27,Planilha2!A25:F138,4,FALSE) -> 785 | M27: =K27+L27 -> 785 | N27: 253 | O27: =VLOOKUP(A27,Planilha2!A25:F138,5,FALSE) -> 383 | P27: =N27+O27 -> 636 | Q27: 1549
A28: FACA 24606/086 BRANCO TRAMONTINA | B28: 160 | C28: 0 | D28: =B28+C28 -> 160 | E28: 206 | F28: =VLOOKUP(A28,Planilha2!A26:F139,2,FALSE) -> 0 | G28: =E28+F28 -> 206 | H28: 127 | I28: =VLOOKUP(A28,Planilha2!A26:F139,3,FALSE) -> 58 | J28: =H28+I28 -> 185 | K28: 18 | L28: =VLOOKUP(A28,Planilha2!A26:F139,4,FALSE) -> 148 | M28: =K28+L28 -> 166 | N28: 233 | O28: =VLOOKUP(A28,Planilha2!A26:F139,5,FALSE) -> 346 | P28: =N28+O28 -> 579 | Q28: 744
A29: FACA 24606/056 AMARELO TRAMONTINA | B29: 139 | C29: 0 | D29: =B29+C29 -> 139 | E29: 184 | F29: =VLOOKUP(A29,Planilha2!A27:F140,2,FALSE) -> 0 | G29: =E29+F29 -> 184 | H29: 167 | I29: =VLOOKUP(A29,Planilha2!A27:F140,3,FALSE) -> 0 | J29: =H29+I29 -> 167 | K29: 30 | L29: =VLOOKUP(A29,Planilha2!A27:F140,4,FALSE) -> 191 | M29: =K29+L29 -> 221 | N29: 216 | O29: =VLOOKUP(A29,Planilha2!A27:F140,5,FALSE) -> 396 | P29: =N29+O29 -> 612 | Q29: 736
A30: FACA 24655/056 AMARELO TRAMONTINA | B30: 74 | C30: 0 | D30: =B30+C30 -> 74 | E30: 108 | F30: =VLOOKUP(A30,Planilha2!A28:F141,2,FALSE) -> 0 | G30: =E30+F30 -> 108 | H30: 72 | I30: =VLOOKUP(A30,Planilha2!A28:F141,3,FALSE) -> 12 | J30: =H30+I30 -> 84 | K30: 0 | L30: =VLOOKUP(A30,Planilha2!A28:F141,4,FALSE) -> 168 | M30: =K30+L30 -> 168 | N30: 204 | O30: =VLOOKUP(A30,Planilha2!A28:F141,5,FALSE) -> 304 | P30: =N30+O30 -> 508 | Q30: 458
A31: HASTE 24694/000 PARA ALINHADOR DE FIO PROFISSIONAL MODELO NOVO TRAMONTINA | B31: 0 | C31: 0 | D31: =B31+C31 -> 0 | E31: 0 | F31: =VLOOKUP(A31,Planilha2!A29:F142,2,FALSE) -> 0 | G31: =E31+F31 -> 0 | H31: 0 | I31: =VLOOKUP(A31,Planilha2!A29:F142,3,FALSE) -> 0 | J31: =H31+I31 -> 0 | K31: 0 | L31: 385 | M31: =K31+L31 -> 385 | N31: 201 | O31: =VLOOKUP(A31,Planilha2!A29:F142,5,FALSE) -> 90 | P31: =N31+O31 -> 291 | Q31: 201
A32: FACA 24605/085 BRANCO TRAMONTINA | B32: 146 | C32: 0 | D32: =B32+C32 -> 146 | E32: 312 | F32: =VLOOKUP(A32,Planilha2!A30:F143,2,FALSE) -> 0 | G32: =E32+F32 -> 312 | H32: 149 | I32: =VLOOKUP(A32,Planilha2!A30:F143,3,FALSE) -> 137 | J32: =H32+I32 -> 286 | K32: 0 | L32: =VLOOKUP(A32,Planilha2!A30:F143,4,FALSE) -> 228 | M32: =K32+L32 -> 228 | N32: 180 | O32: =VLOOKUP(A32,Planilha2!A30:F143,5,FALSE) -> 216 | P32: =N32+O32 -> 396 | Q32: 787
A33: FACA 24655/086 BRANCO TRAMONTINA | B33: 84 | C33: 0 | D33: =B33+C33 -> 84 | E33: 108 | F33: =VLOOKUP(A33,Planilha2!A31:F144,2,FALSE) -> 0 | G33: =E33+F33 -> 108 | H33: 60 | I33: =VLOOKUP(A33,Planilha2!A31:F144,3,FALSE) -> 12 | J33: =H33+I33 -> 72 | K33: 0 | L33: =VLOOKUP(A33,Planilha2!A31:F144,4,FALSE) -> 168 | M33: =K33+L33 -> 168 | N33: 168 | O33: =VLOOKUP(A33,Planilha2!A31:F144,5,FALSE) -> 324 | P33: =N33+O33 -> 492 | Q33: 420
A34: FACA 24605/055 AMARELO TRAMONTINA | B34: 174 | C34: 0 | D34: =B34+C34 -> 174 | E34: 324 | F34: =VLOOKUP(A34,Planilha2!A32:F145,2,FALSE) -> 0 | G34: =E34+F34 -> 324 | H34: 178 | I34: =VLOOKUP(A34,Planilha2!A32:F145,3,FALSE) -> 156 | J34: =H34+I34 -> 334 | K34: 0 | L34: =VLOOKUP(A34,Planilha2!A32:F145,4,FALSE) -> 228 | M34: =K34+L34 -> 228 | N34: 168 | O34: =VLOOKUP(A34,Planilha2!A32:F145,5,FALSE) -> 162 | P34: =N34+O34 -> 330 | Q34: 844
A35: FACA 24607/087 BRANCO TRAMONTINA | B35: 1224 | C35: 0 | D35: =B35+C35 -> 1224 | E35: 624 | F35: =VLOOKUP(A35,Planilha2!A33:F146,2,FALSE) -> 0 | G35: =E35+F35 -> 624 | H35: 456 | I35: =VLOOKUP(A35,Planilha2!A33:F146,3,FALSE) -> 168 | J35: =H35+I35 -> 624 | K35: 0 | L35: =VLOOKUP(A35,Planilha2!A33:F146,4,FALSE) -> 437 | M35: =K35+L35 -> 437 | N35: 168 | O35: =VLOOKUP(A35,Planilha2!A33:F146,5,FALSE) -> 300 | P35: =N35+O35 -> 468 | Q35: 2472
A36: # FACA 24614/015 AZUL TRAMONTINA | B36: 504 | C36: 0 | D36: =B36+C36 -> 504 | E36: 922 | F36: 0 | G36: =E36+F36 -> 922 | H36: 368 | I36: 300 | J36: =H36+I36 -> 668 | K36: 0 | L36: 868 | M36: =K36+L36 -> 868 | N36: 156 | O36: 564 | P36: =N36+O36 -> 720 | Q36: 1950
A37: CHAIRA RAIADA 24642/080 BRANCO TRAMONTINA | B37: 172 | C37: 0 | D37: =B37+C37 -> 172 | E37: 334 | F37: 0 | G37: =E37+F37 -> 334 | H37: 171 | I37: 169 | J37: =H37+I37 -> 340 | K37: 17 | L37: 486 | M37: =K37+L37 -> 503 | N37: 149 | O37: 368 | P37: =N37+O37 -> 517 | Q37: 843
A38: FACA 24662/055 AMARELO TRAMONTINA | B38: 0 | C38: 0 | D38: =B38+C38 -> 0 | E38: 0 | F38: =VLOOKUP(A38,Planilha2!A36:F149,2,FALSE) -> 0 | G38: =E38+F38 -> 0 | H38: 0 | I38: =VLOOKUP(A38,Planilha2!A36:F149,3,FALSE) -> 0 | J38: =H38+I38 -> 0 | K38: 0 | L38: =VLOOKUP(A38,Planilha2!A36:F149,4,FALSE) -> 0 | M38: =K38+L38 -> 0 | N38: 144 | O38: =VLOOKUP(A38,Planilha2!A36:F149,5,FALSE) -> 276 | P38: =N38+O38 -> 420 | Q38: 144
A39: FACA 24607/057 AMARELO TRAMONTINA | B39: 1282 | C39: 0 | D39: =B39+C39 -> 1282 | E39: 696 | F39: 0 | G39: =E39+F39 -> 696 | H39: 592 | I39: 192 | J39: =H39+I39 -> 784 | K39: 21 | L39: 494 | M39: =K39+L39 -> 515 | N39: 144 | O39: 336 | P39: =N39+O39 -> 480 | Q39: 2735
A40: FACA 24611/088 BRANCO TRAMONTINA | B40: 131 | C40: 0 | D40: =B40+C40 -> 131 | E40: 148 | F40: =VLOOKUP(A40,Planilha2!A38:F151,2,FALSE) -> 0 | G40: =E40+F40 -> 148 | H40: 34 | I40: =VLOOKUP(A40,Planilha2!A38:F151,3,FALSE) -> 124 | J40: =H40+I40 -> 158 | K40: 0 | L40: =VLOOKUP(A40,Planilha2!A38:F151,4,FALSE) -> 145 | M40: =K40+L40 -> 145 | N40: 141 | O40: =VLOOKUP(A40,Planilha2!A38:F151,5,FALSE) -> 125 | P40: =N40+O40 -> 266 | Q40: 454
...

Sheet Planilha2
A1: Ano | B1: 2021 | C1: 2022 | D1: 2023 | E1: 2024 | F1: Total por LINHAS
A2: Nome Produto | B2: Quantidade | C2: Quantidade | D2: Quantidade | E2: Quantidade | F2: Quantidade
A3: FACA 24605/016 AZUL TRAMONTINA | B3: 0 | C3: 3926 | D3: 6107 | E3: 3724 | F3: 13757
A4: FACA 24605/086 BRANCO TRAMONTINA | B4: 0 | C4: 3427 | D4: 5618 | E4: 3572 | F4: 12617
A5: FACA 24602/085 BRANCO TRAMONTINA | B5: 90 | C5: 2336 | D5: 4529 | E5: 3504 | F5: 10459
A6: FACA 24605/056 AMARELO TRAMONTINA | B6: 0 | C6: 3000 | D6: 5986 | E6: 3474 | F6: 12460
A7: FACA 24605/026 VERDE TRAMONTINA | B7: 0 | C7: 3499 | D7: 5607 | E7: 3444 | F7: 12550
A8: FACA 24602/055 AMARELO TRAMONTINA | B8: 0 | C8: 2069 | D8: 3730 | E8: 3348 | F8: 9147
A9: FACA 24619/086 BRANCO TRAMONTINA | B9: 120 | C9: 1466 | D9: 3653 | E9: 2853 | F9: 8092
A10: FACA 24619/056 AMARELO TRAMONTINA | B10: 277 | C10: 1510 | D10: 3452 | E10: 2672 | F10: 7911
A11: FACA 24652/085 BRANCO TRAMONTINA | B11: 0 | C11: 1519 | D11: 2564 | E11: 1972 | F11: 6055
A12: FACA 24614/085 BRANCO TRAMONTINA | B12: 0 | C12: 1375 | D12: 2401 | E12: 1966 | F12: 5742
A13: FACA 24652/055 AMARELO TRAMONTINA | B13: 0 | C13: 1352 | D13: 2332 | E13: 1928 | F13: 5612
A14: FACA 24667/085 BRANCO TRAMONTINA | B14: 300 | C14: 1056 | D14: 2459 | E14: 1745 | F14: 5560
... A114: Total por COLUNAS | B114: 1149 | C114: 41309 | D114: 80834 | E114: 59405 | F114: 182697
